BEGIN:VCALENDAR
VERSION:2.0
PRODID:-//Squarespace Inc/Squarespace 6//v6//EN
BEGIN:VEVENT
UID:5c4fdbe288251b62c0891cee@squarespace.com
DTSTAMP:20190129T050404Z
DTSTART:20190221T070000Z
DTEND:20190221T083000Z
SUMMARY:Christianity Explored
END:VEVENT
END:VCALENDAR
