BEGIN:VCALENDAR
VERSION:2.0
PRODID:-//Squarespace Inc/Squarespace 6//v6//EN
BEGIN:VEVENT
UID:5c5cd12cec212d73db9d4fd4@squarespace.com
DTSTAMP:20190226T231018Z
DTSTART:20190301T213000Z
DTEND:20190301T233000Z
SUMMARY:Men's Breakfast
END:VEVENT
END:VCALENDAR
