BEGIN:VCALENDAR
VERSION:2.0
PRODID:-//Squarespace Inc/Squarespace 6//v6//EN
BEGIN:VEVENT
UID:5c74b626c830255955703923@squarespace.com
DTSTAMP:20190226T035026Z
DTSTART:20190406T013000Z
DTEND:20190406T045900Z
SUMMARY:Teach us to Pray with Peter Adam
END:VEVENT
END:VCALENDAR
